BEGIN:VCALENDAR
VERSION:2.0
PRODID:-//wp-events-plugin.com//7.2.3.1//EN
BEGIN:VEVENT
UID:48@sc-barienrode.de
DTSTART;TZID=Europe/Berlin;VALUE=DATE:20230609
DTEND;TZID=Europe/Berlin;VALUE=DATE:20230610
DTSTAMP:20230314T212910Z
URL:https://sc-barienrode.de/events/top-event-fussball-sg-beustertal-vs-ha
 nnover-96-traditionsmannschaft/
SUMMARY:Top-Event Fußball: SG Beustertal vs. Hannover 96 Traditionsmannsch
 aft
DESCRIPTION:Weitere Informationen (Uhrzeit\, Kartenvorverkauf....) folgen r
 echtzeitig vor dem Termin.
CATEGORIES:Turnen
LOCATION:Sportplatz Barienrode\, Am Sportplatz 1\, Barienrode\, Deutschland
X-APPLE-STRUCTURED-LOCATION;VALUE=URI;X-ADDRESS=Am Sportplatz 1\, Barienrod
 e\, Deutschland;X-APPLE-RADIUS=100;X-TITLE=Sportplatz Barienrode:geo:0,0
END:VEVENT
BEGIN:VTIMEZONE
TZID:Europe/Berlin
X-LIC-LOCATION:Europe/Berlin
BEGIN:DAYLIGHT
DTSTART:20230326T030000
TZOFFSETFROM:+0100
TZOFFSETTO:+0200
TZNAME:CEST
END:DAYLIGHT
END:VTIMEZONE
END:VCALENDAR