BEGIN:VCALENDAR
VERSION:2.0
PRODID:-//wp-events-plugin.com//7.2.3.1//EN
BEGIN:VEVENT
UID:121@sc-barienrode.de
DTSTART;TZID=Europe/Berlin:20240113T100000
DTEND;TZID=Europe/Berlin:20240113T200000
DTSTAMP:20240109T102224Z
URL:https://sc-barienrode.de/events/tischtennis-gemeindepokal/
SUMMARY:Tischtennis-Gemeindepokal (Schulsporthalle Diekholzen)
DESCRIPTION:
CATEGORIES:Allgemein,Hallennutzung
END:VEVENT
BEGIN:VTIMEZONE
TZID:Europe/Berlin
X-LIC-LOCATION:Europe/Berlin
BEGIN:STANDARD
DTSTART:20231029T020000
TZOFFSETFROM:+0200
TZOFFSETTO:+0100
TZNAME:CET
END:STANDARD
END:VTIMEZONE
END:VCALENDAR