BEGIN:VCALENDAR
VERSION:2.0
PRODID:-//wp-events-plugin.com//7.2.3.1//EN
BEGIN:VEVENT
UID:220@sc-barienrode.de
DTSTART;TZID=Europe/Berlin;VALUE=DATE:20240319
DTEND;TZID=Europe/Berlin;VALUE=DATE:20240320
DTSTAMP:20240205T102754Z
URL:https://sc-barienrode.de/events/sperre-sporthalle-reparaturarbeiten-ha
 llenboden/
SUMMARY:Sperre Sporthalle (Reparaturarbeiten Hallenboden)
DESCRIPTION:
CATEGORIES:Allgemein,Hallennutzung
LOCATION:Sporthalle Barienrode\, Nikolausstr. 5\, Diekholzen\, Niedersachse
 n\, 31199\, Deutschland
X-APPLE-STRUCTURED-LOCATION;VALUE=URI;X-ADDRESS=Nikolausstr. 5\, Diekholzen
 \, Niedersachsen\, 31199\, Deutschland;X-APPLE-RADIUS=100;X-TITLE=Sporthal
 le Barienrode:geo:0,0
END:VEVENT
BEGIN:VTIMEZONE
TZID:Europe/Berlin
X-LIC-LOCATION:Europe/Berlin
BEGIN:STANDARD
DTSTART:20231029T020000
TZOFFSETFROM:+0200
TZOFFSETTO:+0100
TZNAME:CET
END:STANDARD
END:VTIMEZONE
END:VCALENDAR