BEGIN:VCALENDAR
VERSION:2.0
PRODID:-//wp-events-plugin.com//7.2.3.1//EN
BEGIN:VEVENT
UID:673@sc-barienrode.de
DTSTART;TZID=Europe/Berlin:20250906T110000
DTEND;TZID=Europe/Berlin:20250906T120000
DTSTAMP:20250820T111825Z
URL:https://sc-barienrode.de/events/sg-e-jugend-ii-psv-hildesheim/
SUMMARY:SG E-Jugend II - PSV Hildesheim
DESCRIPTION:
CATEGORIES:Fußball
END:VEVENT
BEGIN:VTIMEZONE
TZID:Europe/Berlin
X-LIC-LOCATION:Europe/Berlin
BEGIN:DAYLIGHT
DTSTART:20250330T030000
TZOFFSETFROM:+0100
TZOFFSETTO:+0200
TZNAME:CEST
END:DAYLIGHT
END:VTIMEZONE
END:VCALENDAR