BEGIN:VCALENDAR
VERSION:2.0
PRODID:-//wp-events-plugin.com//7.2.3.1//EN
BEGIN:VEVENT
UID:759@sc-barienrode.de
DTSTART;TZID=Europe/Berlin:20260207T100000
DTEND;TZID=Europe/Berlin:20260207T230000
DTSTAMP:20251229T180124Z
URL:https://sc-barienrode.de/events/jahreshauptversammlung-der-feuerwehr/
SUMMARY:Jahreshauptversammlung der Feuerwehr
DESCRIPTION:Halle ab 10.00 Uhr belegt.
CATEGORIES:Allgemein,Hallennutzung
LOCATION:Sporthalle Barienrode\, Nikolausstr. 5\, Diekholzen\, Niedersachse
 n\, 31199\, Deutschland
X-APPLE-STRUCTURED-LOCATION;VALUE=URI;X-ADDRESS=Nikolausstr. 5\, Diekholzen
 \, Niedersachsen\, 31199\, Deutschland;X-APPLE-RADIUS=100;X-TITLE=Sporthal
 le Barienrode:geo:0,0
END:VEVENT
BEGIN:VTIMEZONE
TZID:Europe/Berlin
X-LIC-LOCATION:Europe/Berlin
BEGIN:STANDARD
DTSTART:20251026T020000
TZOFFSETFROM:+0200
TZOFFSETTO:+0100
TZNAME:CET
END:STANDARD
END:VTIMEZONE
END:VCALENDAR