BEGIN:VCALENDAR
VERSION:2.0
PRODID:-//wp-events-plugin.com//7.2.3.1//EN
BEGIN:VEVENT
UID:304@sc-barienrode.de
DTSTART;TZID=Europe/Berlin:20250201T100000
DTEND;TZID=Europe/Berlin:20250201T230000
DTSTAMP:20241203T085803Z
URL:https://sc-barienrode.de/events/jahreshauptversammlung-der-feuerwehr-u
 m-19-00-uhr/
SUMMARY:Jahreshauptversammlung der Feuerwehr um 19.00 Uhr
DESCRIPTION:Aufbau in der Sporthalle ab 10.00 Uhr
CATEGORIES:Allgemein,Hallennutzung
LOCATION:Sporthalle Barienrode\, Nikolausstr. 5\, Diekholzen\, Niedersachse
 n\, 31199\, Deutschland
X-APPLE-STRUCTURED-LOCATION;VALUE=URI;X-ADDRESS=Nikolausstr. 5\, Diekholzen
 \, Niedersachsen\, 31199\, Deutschland;X-APPLE-RADIUS=100;X-TITLE=Sporthal
 le Barienrode:geo:0,0
END:VEVENT
BEGIN:VTIMEZONE
TZID:Europe/Berlin
X-LIC-LOCATION:Europe/Berlin
BEGIN:STANDARD
DTSTART:20241027T020000
TZOFFSETFROM:+0200
TZOFFSETTO:+0100
TZNAME:CET
END:STANDARD
END:VTIMEZONE
END:VCALENDAR