BEGIN:VCALENDAR
VERSION:2.0
PRODID:-//wp-events-plugin.com//7.2.3.1//EN
BEGIN:VEVENT
UID:133@sc-barienrode.de
DTSTART;TZID=Europe/Berlin:20240210T080000
DTEND;TZID=Europe/Berlin:20240210T190000
DTSTAMP:20240205T081024Z
URL:https://sc-barienrode.de/events/halle-ganztaegig-bis-1900-uhr-belegt-1
 500-1700-uhr-faschingsfeier-fuer-kinder/
SUMMARY:Faschingsfeier für Kinder - 15:00-17:00 Uhr (Halle ganztägig bis 
 19:00 Uhr belegt)
DESCRIPTION:
CATEGORIES:Allgemein,Hallennutzung
LOCATION:Sporthalle Barienrode\, Nikolausstr. 5\, Diekholzen\, Niedersachse
 n\, 31199\, Deutschland
X-APPLE-STRUCTURED-LOCATION;VALUE=URI;X-ADDRESS=Nikolausstr. 5\, Diekholzen
 \, Niedersachsen\, 31199\, Deutschland;X-APPLE-RADIUS=100;X-TITLE=Sporthal
 le Barienrode:geo:0,0
END:VEVENT
BEGIN:VTIMEZONE
TZID:Europe/Berlin
X-LIC-LOCATION:Europe/Berlin
BEGIN:STANDARD
DTSTART:20231029T020000
TZOFFSETFROM:+0200
TZOFFSETTO:+0100
TZNAME:CET
END:STANDARD
END:VTIMEZONE
END:VCALENDAR