BEGIN:VCALENDAR
VERSION:2.0
PRODID:-//wp-events-plugin.com//7.2.3.1//EN
BEGIN:VEVENT
UID:134@sc-barienrode.de
DTSTART;TZID=Europe/Berlin:20240208T100000
DTEND;TZID=Europe/Berlin:20240208T140000
DTSTAMP:20231201T094239Z
URL:https://sc-barienrode.de/events/fussballturnier-c-jugend-sg-beustertal
 /
SUMMARY:Fußballturnier - C-Jugend - SG Beustertal in der Steinberghalle
DESCRIPTION:
CATEGORIES:Fußball,Hallennutzung
END:VEVENT
BEGIN:VTIMEZONE
TZID:Europe/Berlin
X-LIC-LOCATION:Europe/Berlin
BEGIN:STANDARD
DTSTART:20231029T020000
TZOFFSETFROM:+0200
TZOFFSETTO:+0100
TZNAME:CET
END:STANDARD
END:VTIMEZONE
END:VCALENDAR