BEGIN:VCALENDAR
VERSION:2.0
PRODID:-//wp-events-plugin.com//7.2.3.1//EN
BEGIN:VEVENT
UID:710@sc-barienrode.de
DTSTART;TZID=Europe/Berlin:20260214T150000
DTEND;TZID=Europe/Berlin:20260214T170000
DTSTAMP:20251129T132120Z
URL:https://sc-barienrode.de/events/faschingsfeier-fuer-kinder-2/
SUMMARY:Faschingsfeier für Kinder
DESCRIPTION:Die Halle ist ganztägig bis 19:00 Uhr belegt.
CATEGORIES:Allgemein,Hallennutzung,Turnen
LOCATION:Sporthalle Barienrode\, Nikolausstr. 5\, Diekholzen\, Niedersachse
 n\, 31199\, Deutschland
X-APPLE-STRUCTURED-LOCATION;VALUE=URI;X-ADDRESS=Nikolausstr. 5\, Diekholzen
 \, Niedersachsen\, 31199\, Deutschland;X-APPLE-RADIUS=100;X-TITLE=Sporthal
 le Barienrode:geo:0,0
END:VEVENT
BEGIN:VTIMEZONE
TZID:Europe/Berlin
X-LIC-LOCATION:Europe/Berlin
BEGIN:STANDARD
DTSTART:20251026T020000
TZOFFSETFROM:+0200
TZOFFSETTO:+0100
TZNAME:CET
END:STANDARD
END:VTIMEZONE
END:VCALENDAR