BEGIN:VCALENDAR
VERSION:2.0
PRODID:-//wp-events-plugin.com//7.2.3.1//EN
BEGIN:VEVENT
UID:711@sc-barienrode.de
DTSTART;TZID=Europe/Berlin:20260214T140000
DTEND;TZID=Europe/Berlin:20260214T180000
DTSTAMP:20251129T132359Z
URL:https://sc-barienrode.de/events/braunkohlwanderung-der-tennisabteilung
 -2/
SUMMARY:Braunkohlwanderung der Tennisabteilung
DESCRIPTION:Start an der Tennisanlage
CATEGORIES:Tennis
END:VEVENT
BEGIN:VTIMEZONE
TZID:Europe/Berlin
X-LIC-LOCATION:Europe/Berlin
BEGIN:STANDARD
DTSTART:20251026T020000
TZOFFSETFROM:+0200
TZOFFSETTO:+0100
TZNAME:CET
END:STANDARD
END:VTIMEZONE
END:VCALENDAR